BEGIN:VCALENDAR
VERSION:2.0
PRODID:-//Western Colorado Writers&#039; Forum - ECPv6.15.3//NONSGML v1.0//EN
CALSCALE:GREGORIAN
METHOD:PUBLISH
X-WR-CALNAME:Western Colorado Writers&#039; Forum
X-ORIGINAL-URL:https://westerncoloradowriters.org
X-WR-CALDESC:Events for Western Colorado Writers&#039; Forum
REFRESH-INTERVAL;VALUE=DURATION:PT1H
X-Robots-Tag:noindex
X-PUBLISHED-TTL:PT1H
BEGIN:VTIMEZONE
TZID:America/Denver
BEGIN:DAYLIGHT
TZOFFSETFROM:-0700
TZOFFSETTO:-0600
TZNAME:MDT
DTSTART:20260308T090000
END:DAYLIGHT
BEGIN:STANDARD
TZOFFSETFROM:-0600
TZOFFSETTO:-0700
TZNAME:MST
DTSTART:20261101T080000
END:STANDARD
END:VTIMEZONE
BEGIN:VEVENT
DTSTART;TZID=America/Denver:20260505T180000
DTEND;TZID=America/Denver:20260505T193000
DTSTAMP:20260423T102605
CREATED:20260223T173201Z
LAST-MODIFIED:20260223T173201Z
UID:4762-1778004000-1778009400@westerncoloradowriters.org
SUMMARY:May Writer's Night: Creative Non-fictioning – Hey\, It Happens! with Brooke Carlson
DESCRIPTION:When faced with the blank page\, where do you go? Is your tendency to fall back on “that time when”…or\, “do you remember…”? Life is stranger than fiction\, and if you want to work out some of your lived experiences in writing\, then this session is for you! We’ll do a number of exercises to help strengthen the pen and generate ideas\, as well as share and talk writing! \nJoin the Western Colorado Writers’ Forum on May 5\, 2026\, from 6-7:30 p.m. at The Art Center in Grand Junction for this fun\, generative session! \n\n\nSpeaker Bio\n \nBrooke A. Carlson has been falling through books\, writing here and there\, and teaching all over the place for ages. Slipping through higher ed for the last couple of decades has meant publications on pedagogy in academic spaces\, and pushing to expand scholarly writing into the public. Along the way\, poetry happens.
URL:https://westerncoloradowriters.org/event/may-writers-night-creativenonfiction/
LOCATION:The Art Center\, 1803 N. 7th Street\, Grand Junction\, CO\, 81501\, United States
CATEGORIES:Writer's Nights
ATTACH;FMTTYPE=image/jpeg:https://westerncoloradowriters.org/wp-content/uploads/2024/02/write-4491416_1280-e1763067101890.jpg
END:VEVENT
END:VCALENDAR