BEGIN:VCALENDAR
VERSION:2.0
PRODID:-//Western Colorado Writers&#039; Forum - ECPv6.15.3//NONSGML v1.0//EN
CALSCALE:GREGORIAN
METHOD:PUBLISH
X-WR-CALNAME:Western Colorado Writers&#039; Forum
X-ORIGINAL-URL:https://westerncoloradowriters.org
X-WR-CALDESC:Events for Western Colorado Writers&#039; Forum
REFRESH-INTERVAL;VALUE=DURATION:PT1H
X-Robots-Tag:noindex
X-PUBLISHED-TTL:PT1H
BEGIN:VTIMEZONE
TZID:America/Denver
BEGIN:DAYLIGHT
TZOFFSETFROM:-0700
TZOFFSETTO:-0600
TZNAME:MDT
DTSTART:20250309T090000
END:DAYLIGHT
BEGIN:STANDARD
TZOFFSETFROM:-0600
TZOFFSETTO:-0700
TZNAME:MST
DTSTART:20251102T080000
END:STANDARD
END:VTIMEZONE
BEGIN:VEVENT
DTSTART;TZID=America/Denver:20250902T180000
DTEND;TZID=America/Denver:20250902T193000
DTSTAMP:20260423T183307
CREATED:20250811T200431Z
LAST-MODIFIED:20250817T202051Z
UID:4439-1756836000-1756841400@westerncoloradowriters.org
SUMMARY:Conventions\, Conferences and Critique Groups: How to Get the Most from Them with James Van Pelt
DESCRIPTION:September Writer’s Night\n  \nYou know the best practice to improve your writing is to write. Don’t forget that. \nBut there are other ways to help\, to jump-start your thinking\, to skip the steps that if you had to take them on your own could take months and months: conventions\, conferences\, and critique groups. \nLong-time teacher\, conventioneer\, and critique group leader James Van Pelt will talk about strategies to get the most from your participation at each\, and offer resources to find the valuable ones. \nIf you’ve attended any of these useful activities and are willing to share\, be ready with your best (or worst) moments in your experience. \nPlease note:  All Writer’s Nights are on the first Tuesday of the month and are held at The Art Center near 7th and Orchard in Grand Junction\, Colorado. \nSpeaker Bio\nJames Van Pelt has been selling short fiction to many of the major venues since 1989. Recently he retired from teaching high school English after thirty-seven years in the classroom. He has been a finalist for the Nebula\, the Theodore Sturgeon Memorial Award\, Locus Awards\, and Analog and Asimov’s Reader’s Choice awards. Years and years ago\, he was a finalist for the John W. Campbell Award for Best New Writer. He still feels “new.” Fairwood Press recently released a huge\, limited-edition\, signed\, and numbered collection of his work\, THE BEST OF JAMES VAN PELT. He can be found online at his website or on Facebook.
URL:https://westerncoloradowriters.org/event/conventions-conferences-and-critique-groups-how-to-get-the-most-from-them/
LOCATION:The Art Center\, 1803 N. 7th Street\, Grand Junction\, CO\, 81501\, United States
CATEGORIES:Writer's Nights
ATTACH;FMTTYPE=image/png:https://westerncoloradowriters.org/wp-content/uploads/2024/01/cropped-LargeLogo.png
END:VEVENT
END:VCALENDAR