BEGIN:VCALENDAR
VERSION:2.0
PRODID:-//Western Colorado Writers&#039; Forum - ECPv6.15.3//NONSGML v1.0//EN
CALSCALE:GREGORIAN
METHOD:PUBLISH
X-ORIGINAL-URL:https://westerncoloradowriters.org
X-WR-CALDESC:Events for Western Colorado Writers&#039; Forum
REFRESH-INTERVAL;VALUE=DURATION:PT1H
X-Robots-Tag:noindex
X-PUBLISHED-TTL:PT1H
BEGIN:VTIMEZONE
TZID:America/Denver
BEGIN:DAYLIGHT
TZOFFSETFROM:-0700
TZOFFSETTO:-0600
TZNAME:MDT
DTSTART:20240310T090000
END:DAYLIGHT
BEGIN:STANDARD
TZOFFSETFROM:-0600
TZOFFSETTO:-0700
TZNAME:MST
DTSTART:20241103T080000
END:STANDARD
END:VTIMEZONE
BEGIN:VEVENT
DTSTART;TZID=America/Denver:20240806T180000
DTEND;TZID=America/Denver:20240806T193000
DTSTAMP:20260424T120512
CREATED:20240428T203748Z
LAST-MODIFIED:20240730T214641Z
UID:2942-1722967200-1722972600@westerncoloradowriters.org
SUMMARY:August Writer's Night - A Conversation with Danny Rosen: some things I've been thinking about poetry (and a few thoughts on publishing)
DESCRIPTION:“I will discuss how my approaches to poetry have evolved over the years. In addition to my own work\, some of the poets whose work I will cite include Robinson Jeffers\, Wendy Videlock\, Jack Mueller\, and Clark Coolidge. In the poetry I am drawn to\, the use of language is as important if not more so than the subject or the feelings expressed. I will also speak briefly on the vagaries and possibilities of publishing in the modern world.”\n\n\nAll Writer’s Night events are held at the Art Center in Grand Junciton\, 7th and Orchard.\n\n Speaker Bio\n\n\n\nDanny Rosen left Philadelphia in 1980. At University of Wyoming he studied geology to learn about what he was climbing. Over time\, all things stone and otherwise coalesced in Fruita to become Lithic Press\, then Bookstore. Publications include Suspended Erosion (Lithic Press)\, The Tuscan Journals (Cuneiform Press)\, Primate Poems (Lithic Press)\, and Ghosts of Giant Kudu (Kattywompus).
URL:https://westerncoloradowriters.org/event/august-writers-night-2024/
LOCATION:Grand Junction Art Center\, 1803 No. 7th\, Grand Junction\, Colorado\, 81501
CATEGORIES:Writer's Nights
ATTACH;FMTTYPE=image/jpeg:https://westerncoloradowriters.org/wp-content/uploads/2024/02/Attendeesed.jpg
END:VEVENT
END:VCALENDAR