BEGIN:VCALENDAR
VERSION:2.0
PRODID:-//Western Colorado Writers&#039; Forum - ECPv6.15.3//NONSGML v1.0//EN
CALSCALE:GREGORIAN
METHOD:PUBLISH
X-WR-CALNAME:Western Colorado Writers&#039; Forum
X-ORIGINAL-URL:https://westerncoloradowriters.org
X-WR-CALDESC:Events for Western Colorado Writers&#039; Forum
REFRESH-INTERVAL;VALUE=DURATION:PT1H
X-Robots-Tag:noindex
X-PUBLISHED-TTL:PT1H
BEGIN:VTIMEZONE
TZID:America/Denver
BEGIN:DAYLIGHT
TZOFFSETFROM:-0700
TZOFFSETTO:-0600
TZNAME:MDT
DTSTART:20250309T090000
END:DAYLIGHT
BEGIN:STANDARD
TZOFFSETFROM:-0600
TZOFFSETTO:-0700
TZNAME:MST
DTSTART:20251102T080000
END:STANDARD
END:VTIMEZONE
BEGIN:VEVENT
DTSTART;TZID=America/Denver:20250805T180000
DTEND;TZID=America/Denver:20250805T193000
DTSTAMP:20260425T092821
CREATED:20250628T201406Z
LAST-MODIFIED:20250630T010012Z
UID:4357-1754416800-1754422200@westerncoloradowriters.org
SUMMARY:August Writer's Night - From the Trenches: The Process of Querying Your Debut with Paige Kaptuch
DESCRIPTION:Have you ever tried to find an agent? Maybe you are in the thinking stages right now\, or have only just begun to write your book. Perhaps you’re wondering\, “What the heck is querying\, and do I really need to do that?” \n  \nOur August Writer’s Night presenter Paige Kaptuch will discuss her own ongoing journey to publishing her debut novel and will share her research\, resources\, and tips — including the process of finding an agent. \n  \nSpeaker Bio\n \nPaige Kaptuch has an MFA in fiction from the University of Arizona and was named a 2025 Tennessee Williams Fiction Scholar at the Sewanee Writers Conference. Her work has been selected as a Longreads Top 5 and nominated for a Best Small Fictions\, and has appeared in Runner’s World/Apple News Narrated\, Spoke and Blossom\, Swamp Pink\, The Forge\, Epiphany\, Masters Review\, Door is a Jar\, and Hayden’s Ferry Review. She’s been awarded funded writing residencies at the Virginia Center for the Creative Arts\, Kimmel Harding Nelson Center for the Arts\, Wildacres\, Foundation House\, PLAYA Summer Lake\, Volland\, Jentel\, and Vermont Studio Center. Her career has involved teaching both undergraduate and college prep students\, as well as working in the run specialty/OR industry. She lives with her family in Grand Junction.
URL:https://westerncoloradowriters.org/event/august-writers-night-2025/
LOCATION:The Art Center\, 1803 N. 7th Street\, Grand Junction\, CO\, 81501\, United States
CATEGORIES:Writer's Nights
END:VEVENT
BEGIN:VEVENT
DTSTART;TZID=America/Denver:20250822T163000
DTEND;TZID=America/Denver:20250822T180000
DTSTAMP:20260425T092821
CREATED:20241227T175049Z
LAST-MODIFIED:20241227T175122Z
UID:3790-1755880200-1755885600@westerncoloradowriters.org
SUMMARY:Spoken Word Open Mic Night - Fourth Fridays
DESCRIPTION:Join us every month on the fourth Friday for a Spoken Word Open Mic Night from 4:30-6:00 p.m. The Western Colorado Writers’ Forum has partnered with Carboy Winery in Palisade to bring you this opportunity to read your work. We welcome poetry\, prose\, storytelling\, and slam\, and all skill levels are welcome. \nSignups start onsite at 4:15 and there is a 5-7 minute time limit. We’ve had new readers attend these sessions\, and the time limits are our effort to ensure everyone has a chance at the mic. Any time limit is to encourage inclusion. \nThis event is in the production facility on the ground level\, so there are no stairs to negotiate. It is cooler in this room because this is where they make the wine. You may want to bring an extra layer. In warmer months\, we may host this event outside. \nPlease note that while a variety of beverages are available\, you are not required to purchase to attend this Open Mic. \nLocation: 3572 G Rd\, Palisade\, CO 81526.
URL:https://westerncoloradowriters.org/event/spoken-word-open-mic-night-fourth-fridays-7/
LOCATION:Carboy Winery Grand Valley\, 3572 G Rd\, Palisade\, CO\, 81526\, United States
CATEGORIES:Open Mic
ATTACH;FMTTYPE=image/jpeg:https://westerncoloradowriters.org/wp-content/uploads/2024/07/openmicgraphic.jpg
END:VEVENT
END:VCALENDAR