BEGIN:VCALENDAR
VERSION:2.0
PRODID:-//Western Colorado Writers&#039; Forum - ECPv6.15.3//NONSGML v1.0//EN
CALSCALE:GREGORIAN
METHOD:PUBLISH
X-WR-CALNAME:Western Colorado Writers&#039; Forum
X-ORIGINAL-URL:https://westerncoloradowriters.org
X-WR-CALDESC:Events for Western Colorado Writers&#039; Forum
REFRESH-INTERVAL;VALUE=DURATION:PT1H
X-Robots-Tag:noindex
X-PUBLISHED-TTL:PT1H
BEGIN:VTIMEZONE
TZID:America/Denver
BEGIN:DAYLIGHT
TZOFFSETFROM:-0700
TZOFFSETTO:-0600
TZNAME:MDT
DTSTART:20250309T090000
END:DAYLIGHT
BEGIN:STANDARD
TZOFFSETFROM:-0600
TZOFFSETTO:-0700
TZNAME:MST
DTSTART:20251102T080000
END:STANDARD
END:VTIMEZONE
BEGIN:VEVENT
DTSTART;TZID=America/Denver:20250603T180000
DTEND;TZID=America/Denver:20250603T193000
DTSTAMP:20260425T114950
CREATED:20250508T181027Z
LAST-MODIFIED:20250513T154233Z
UID:4230-1748973600-1748979000@westerncoloradowriters.org
SUMMARY:June Writer’s Night - ChatGPT as a Tool for Writers: An Honest Conversation and Workshop with Kate Beagle
DESCRIPTION:In this era of rapidly developing artificial intelligence\, creatives across the world are sounding the alarm. Screenwriters\, copywriters\, journalists\, poets\, and novelists are all watching a familiar story unfold: a world that already undervalues their labor is racing to replace it with something cheaper\, faster\, and altogether less human. \nLike so many technological shifts before it\, the ringing of the AI bell cannot be unrung. That leaves those of us doing the deeply human work of writing with a choice: resist or adapt. \nYet\, perhaps\, there is a third path that will allow us to engage with this new technology critically and creatively. \nJoin us for an honest\, writer-centered conversation about ChatGPT as an instrument we may choose to use with care\, to fine-tune our own unique vision\, rather than as a replacement for the creative process. \nTogether\, let us explore what this technology can do: spark ideas\, assist with structure\, untangle messy drafts\, and provide invaluable (if somewhat dubious) research assistance. And we’ll discuss just as candidly what ChatGPT and similar AI assistants cannot do: capture lived experience\, create emotional truth\, or tell your unique and authentic story. \n  \nSpeaker Bio\nKate Beagle is a Grand Junction native\, small business owner\, and lifelong creative. As the owner\, bookkeeper\, and office manager of HBJ’s Your Way Grooming\, she spends her days caring for the community’s beloved four-legged companions. But at heart\, Kate has always been a storyteller. A passionate reader\, writer\, and world-builder\, she tentatively describes herself as a speculative fiction author and proudly serves as Treasurer of the Western Colorado Writers’ Forum\, where she’s eager to connect with other lovers of “weird fiction” across the Grand Valley. \nKate’s experience with artificial intelligence—like many of us at the dawn of this new technological era—has been largely self-guided. She’s explored ChatGPT as a creative tool in her own writing practice and is now excited to open a broader\, deeper conversation among her fellow writers about what this technology might mean in a world that too often seeks to turn creativity into a commodity.
URL:https://westerncoloradowriters.org/event/june-writers-night-chatgpt/
LOCATION:The Art Center\, 1803 N. 7th Street\, Grand Junction\, CO\, 81501\, United States
CATEGORIES:Writer's Nights
END:VEVENT
BEGIN:VEVENT
DTSTART;TZID=America/Denver:20250627T163000
DTEND;TZID=America/Denver:20250627T180000
DTSTAMP:20260425T114950
CREATED:20241227T175013Z
LAST-MODIFIED:20241227T175013Z
UID:3787-1751041800-1751047200@westerncoloradowriters.org
SUMMARY:Spoken Word Open Mic Night - Fourth Fridays
DESCRIPTION:Join us every month on the fourth Friday for a Spoken Word Open Mic Night from 4:30-6:00 p.m. The Western Colorado Writers’ Forum has partnered with Carboy Winery in Palisade to bring you this opportunity to read your work. We welcome poetry\, prose\, storytelling\, and slam\, and all skill levels are welcome. \nSignups start onsite at 4:15 and there is a 5-7 minute time limit. We’ve had new readers attend these sessions\, and the time limits are our effort to ensure everyone has a chance at the mic. Any time limit is to encourage inclusion. \nThis event is in the production facility on the ground level\, so there are no stairs to negotiate. It is cooler in this room because this is where they make the wine. You may want to bring an extra layer. In warmer months\, we may host this event outside. \nPlease note that while a variety of beverages are available\, you are not required to purchase to attend this Open Mic. \nLocation: 3572 G Rd\, Palisade\, CO 81526.
URL:https://westerncoloradowriters.org/event/spoken-word-open-mic-night-fourth-fridays-6/
LOCATION:Carboy Winery Grand Valley\, 3572 G Rd\, Palisade\, CO\, 81526\, United States
CATEGORIES:Open Mic
ATTACH;FMTTYPE=image/jpeg:https://westerncoloradowriters.org/wp-content/uploads/2024/07/openmicgraphic.jpg
END:VEVENT
END:VCALENDAR