BEGIN:VCALENDAR
VERSION:2.0
PRODID:-//Western Colorado Writers&#039; Forum - ECPv6.15.3//NONSGML v1.0//EN
CALSCALE:GREGORIAN
METHOD:PUBLISH
X-ORIGINAL-URL:https://westerncoloradowriters.org
X-WR-CALDESC:Events for Western Colorado Writers&#039; Forum
REFRESH-INTERVAL;VALUE=DURATION:PT1H
X-Robots-Tag:noindex
X-PUBLISHED-TTL:PT1H
BEGIN:VTIMEZONE
TZID:America/Denver
BEGIN:DAYLIGHT
TZOFFSETFROM:-0700
TZOFFSETTO:-0600
TZNAME:MDT
DTSTART:20250309T090000
END:DAYLIGHT
BEGIN:STANDARD
TZOFFSETFROM:-0600
TZOFFSETTO:-0700
TZNAME:MST
DTSTART:20251102T080000
END:STANDARD
END:VTIMEZONE
BEGIN:VEVENT
DTSTART;TZID=America/Denver:20250506T180000
DTEND;TZID=America/Denver:20250506T193000
DTSTAMP:20260425T131048
CREATED:20241227T210455Z
LAST-MODIFIED:20250402T202707Z
UID:3798-1746554400-1746559800@westerncoloradowriters.org
SUMMARY:May Writer's Night - The Plot Thickens:  Writing\, Teaching\, and Publishing Mystery Fiction with Lyn Fraser
DESCRIPTION:The May Writer’s Night session will focus on mystery fiction but will also include a broader discussion of the importance of perseverance and variety\, which impact all of us who write and publish. My own publications include short mystery stories\, the most recent of which began as a novel-in-a-month; it has taken me four years to turn this work into a publishable story. I have been greatly fortunate to be self-supporting as a writer in part because my work includes a Pearson textbook that seems totally unrelated to mystery fiction\, but I believe it fundamentally relies on the same kind of creative energy. I look forward with considerable enthusiasm to your comments\, questions\, and perspectives about these issues. \n  \nSpeaker Bio\n \nLyn Fraser teaches a course in Crime Fiction for New Dimensions and has also been a faculty member at Texas A&M University and Colorado Mesa University. Her publications include a mystery novel (DEBITS AND CREDITS)\, two books on the psalms\, a business textbook (Pearson\, 12th edition 2023)\, short fiction in the AMERICAN LITERARY REVIEW\, the MID-AMERICAN REVIEW\, MYSTERICAL-E\, and two stories in anthologies published by the Murderous Ink Press (“Cosy Nostra” and “Chicka-Chicka Boomba”). An avid reader of mysteries\, Lyn started with Nancy Drew when she was nine years old and has never stopped the clock. \n  \nAll Writer’s Nights are the first Tuesday of the month at the Art Center in Grand Junction. \nCheck out our Events section to see what’s coming up!
URL:https://westerncoloradowriters.org/event/may-writers-night-2/
LOCATION:The Art Center\, 1803 N. 7th Street\, Grand Junction\, CO\, 81501\, United States
CATEGORIES:Writer's Nights
ATTACH;FMTTYPE=image/jpeg:https://westerncoloradowriters.org/wp-content/uploads/2024/02/hand-1868015_1920.jpg
END:VEVENT
BEGIN:VEVENT
DTSTART;TZID=America/Denver:20250523T163000
DTEND;TZID=America/Denver:20250523T180000
DTSTAMP:20260425T131048
CREATED:20241227T174918Z
LAST-MODIFIED:20241227T174918Z
UID:3785-1748017800-1748023200@westerncoloradowriters.org
SUMMARY:Spoken Word Open Mic Night - Fourth Fridays
DESCRIPTION:Join us every month on the fourth Friday for a Spoken Word Open Mic Night from 4:30-6:00 p.m. The Western Colorado Writers’ Forum has partnered with Carboy Winery in Palisade to bring you this opportunity to read your work. We welcome poetry\, prose\, storytelling\, and slam\, and all skill levels are welcome. \nSignups start onsite at 4:15 and there is a 5-7 minute time limit. We’ve had new readers attend these sessions\, and the time limits are our effort to ensure everyone has a chance at the mic. Any time limit is to encourage inclusion. \nThis event is in the production facility on the ground level\, so there are no stairs to negotiate. It is cooler in this room because this is where they make the wine. You may want to bring an extra layer. In warmer months\, we may host this event outside. \nPlease note that while a variety of beverages are available\, you are not required to purchase to attend this Open Mic. \nLocation: 3572 G Rd\, Palisade\, CO 81526.
URL:https://westerncoloradowriters.org/event/spoken-word-open-mic-night-fourth-fridays-5/
LOCATION:Carboy Winery Grand Valley\, 3572 G Rd\, Palisade\, CO\, 81526\, United States
CATEGORIES:Open Mic
ATTACH;FMTTYPE=image/jpeg:https://westerncoloradowriters.org/wp-content/uploads/2024/07/openmicgraphic.jpg
END:VEVENT
END:VCALENDAR