BEGIN:VCALENDAR
VERSION:2.0
PRODID:-//Western Colorado Writers&#039; Forum - ECPv6.15.3//NONSGML v1.0//EN
CALSCALE:GREGORIAN
METHOD:PUBLISH
X-WR-CALNAME:Western Colorado Writers&#039; Forum
X-ORIGINAL-URL:https://westerncoloradowriters.org
X-WR-CALDESC:Events for Western Colorado Writers&#039; Forum
REFRESH-INTERVAL;VALUE=DURATION:PT1H
X-Robots-Tag:noindex
X-PUBLISHED-TTL:PT1H
BEGIN:VTIMEZONE
TZID:America/Denver
BEGIN:DAYLIGHT
TZOFFSETFROM:-0700
TZOFFSETTO:-0600
TZNAME:MDT
DTSTART:20250309T090000
END:DAYLIGHT
BEGIN:STANDARD
TZOFFSETFROM:-0600
TZOFFSETTO:-0700
TZNAME:MST
DTSTART:20251102T080000
END:STANDARD
END:VTIMEZONE
BEGIN:VEVENT
DTSTART;TZID=America/Denver:20250304T173000
DTEND;TZID=America/Denver:20250304T193000
DTSTAMP:20260425T160644
CREATED:20241003T023239Z
LAST-MODIFIED:20250227T214016Z
UID:3500-1741109400-1741116600@westerncoloradowriters.org
SUMMARY:March 4th Writer’s Night – Fun with the Forum Fundraiser Event
DESCRIPTION:The WCWF Fun with the Forum Silent Auction and Fundraiser on March 4\, 2025\nOur event officially starts at 6:00 p.m. at The Art Center in Grand Junction. \nDoors open at 5:30 p.m. so you can peruse auction items\, get a beverage\, enjoy a snack\, and listen to guitar music. \nIn order to plan for our pizza and beverage purchase\, we need to know you’re coming\, so PLEASE RSVP above this page! \n__________________________________________________\nGuitarist Jake Johnson is back!\nHe’ll play as we set up\, during intermissions\, and at the end as we hand over auction items to our wonderful supporters. \n \n  \n“Western Colorado native Jake Johnson has performed for a variety of audiences all across Colorado for over 17 years. A former jazz and classical musician\, his influences range widely and can be heard in his style. He enjoys biking\, going to movies\, playing in the mountains\, and traveling.” \n  \n  \nMore details…\nNew this year: The Typewritering Wordsmiths! It’s Poetry on Demand typed on vintage typewriters and because it’s a fundraiser\, it’s $5 (we wouldn’t turn away more) per poem. They’ll start typing at 5:30 p.m. when doors open. Start thinkin’…what’s your poetry request? Any subject\, but don’t be crude. \nBack again: Table o’ Books – $2 for paperbacks\, $3 for hardbacks. Cash appreciated. \nIt’s a tradition now: Pablo’s Pizza is delivering to the event once again! Every slice was gone before the end of the night last year. Plus\, we’ll have beverages of course. \nSchedule\n5:30 p.m.  Doors open; bidding starts; music; food and beverages; Typewritering Wordsmiths \n6:00 p.m.  Emcee Melody Jones: announcements and fun stuff \n6:10 p.m.  Opening Poetry Reading by Peter Waldor \nPeter Waldor is the author of twenty-four books of poetry\, including Who Touches Everything\, which won the National Jewish Book Award for poetry. He is also the author of a book of essays\, Seven Quilts. His book Gate Posts With No Gate\, is a poetry-art collaboration with a group of visual artists. He was the Poet Laureate of San Miguel County\, Colorado for 2014-2015. His poetry has appeared widely in magazines\, including the American Poetry Review\, Ploughshares\, The Colorado Review\, Fungi Magazine\, and Mothering Magazine. He lives in Ophir\, Colorado. \n6:25 p.m.  Intermission: bidding wars; food and beverage consumption; music; Typewritering Wordsmiths \n6:35 p.m.  Special entertainment will be provided by Geek Parties of the Grand Valley\, a local non-profit that hosts theatre and events in the Grand Junction area. They will perform excerpts from “The Cliffnotes of Insanity: the Princess Bride in 30 Minutes or Less\,” a parody of the timeless classic\, “The Princess Bride.” Expect it to be inconceivable! \n7:05 p.m. Intermission: final bids\, food and beverage consumption\, music\, Typewritering Wordsmiths \n7:15 p.m.  Games and a prize with our Games Wizard Jim Van Pelt \n7:25 p.m.  Emcee announces winners of bid items; winners pay by cash\, check\, or charge; winners skip merrily home with items in hand tra-la-la\, and everybody is happy \n  \nDonations we’ve secured for your bidding pleasure with more coming:\n\nSomething fabulous from Wendy Videlock\, Western Slope Poet Laureate – details coming\nDog grooming gift certificates from HBJ’s Grooming\nEnstrom’s Gift Basket\nBeer Gift Basket – super popular last year – who knew?\nSomething from Out West Books\, a great supporter of the WCWF\nA second Out West Books item – a gift bag with a gift card\nA gift basket filled with books on writing AND wine – because writing and wine…\nTwo CrossStitch Kits\nWine Basket from Peachfork\nChristmas (in March) Quilt made by a local artisan\nGift certificate from Carboy Winery\nMembership from the Art Center\nThree charcoal drawings of various nature scenes by local artist Myles Grandbouche\nMOOORE coming!\n\n__________________________________________________\nWhy have we made this fundraiser an annual event?\nYOU. You are the reason we’re pulling this together. \nWe’re happy to report steadily increasing attendance at Writer’s Night events\, writing workshops\, monthly open mics\, and happy hours. We’d like to continue offering these opportunities plus expand our programming for writers on Colorado’s Western Slope\, and it takes dollars to make it all happen. \nThe WCWF runs on grants with strict spending guidelines\, donations\, and sweat equity with an all-volunteer board and community members who help out. Grants tell us we can’t spend their money on room rentals or our lovely bookkeeper. \nThe not-sexy stuff keeps us going.\nAuction proceeds go to operational expenses\, including rent\, bookkeeping\, website maintenance\, room rental for writer’s nights\, marketing efforts\, incidentals\, and required insurance – all the stuff behind the scenes. Plus\, wouldn’t it be great to have a little something in reserve for leaner times?
URL:https://westerncoloradowriters.org/event/wcwfsilentauction/
LOCATION:The Art Center\, 1803 N. 7th Street\, Grand Junction\, CO\, 81501\, United States
CATEGORIES:Silent Auction
END:VEVENT
BEGIN:VEVENT
DTSTART;TZID=America/Denver:20250328T163000
DTEND;TZID=America/Denver:20250328T180000
DTSTAMP:20260425T160644
CREATED:20241227T174612Z
LAST-MODIFIED:20241227T174612Z
UID:3781-1743179400-1743184800@westerncoloradowriters.org
SUMMARY:Spoken Word Open Mic Night - Fourth Fridays
DESCRIPTION:Join us every month on the fourth Friday for a Spoken Word Open Mic Night from 4:30-6:00 p.m. The Western Colorado Writers’ Forum has partnered with Carboy Winery in Palisade to bring you this opportunity to read your work. We welcome poetry\, prose\, storytelling\, and slam\, and all skill levels are welcome. \nSignups start onsite at 4:15 and there is a 5-7 minute time limit. We’ve had new readers attend these sessions\, and the time limits are our effort to ensure everyone has a chance at the mic. Any time limit is to encourage inclusion. \nThis event is in the production facility on the ground level\, so there are no stairs to negotiate. It is cooler in this room because this is where they make the wine. You may want to bring an extra layer. In warmer months\, we may host this event outside. \nPlease note that while a variety of beverages are available\, you are not required to purchase to attend this Open Mic. \nLocation: 3572 G Rd\, Palisade\, CO 81526.
URL:https://westerncoloradowriters.org/event/spoken-word-open-mic-night-fourth-fridays-3/
LOCATION:Carboy Winery Grand Valley\, 3572 G Rd\, Palisade\, CO\, 81526\, United States
CATEGORIES:Open Mic
ATTACH;FMTTYPE=image/jpeg:https://westerncoloradowriters.org/wp-content/uploads/2024/07/openmicgraphic.jpg
END:VEVENT
END:VCALENDAR