BEGIN:VCALENDAR
VERSION:2.0
PRODID:-//Western Colorado Writers&#039; Forum - ECPv6.15.3//NONSGML v1.0//EN
CALSCALE:GREGORIAN
METHOD:PUBLISH
X-ORIGINAL-URL:https://westerncoloradowriters.org
X-WR-CALDESC:Events for Western Colorado Writers&#039; Forum
REFRESH-INTERVAL;VALUE=DURATION:PT1H
X-Robots-Tag:noindex
X-PUBLISHED-TTL:PT1H
BEGIN:VTIMEZONE
TZID:America/Denver
BEGIN:DAYLIGHT
TZOFFSETFROM:-0700
TZOFFSETTO:-0600
TZNAME:MDT
DTSTART:20240310T090000
END:DAYLIGHT
BEGIN:STANDARD
TZOFFSETFROM:-0600
TZOFFSETTO:-0700
TZNAME:MST
DTSTART:20241103T080000
END:STANDARD
END:VTIMEZONE
BEGIN:VEVENT
DTSTART;TZID=America/Denver:20240903T180000
DTEND;TZID=America/Denver:20240903T193000
DTSTAMP:20260424T171847
CREATED:20240220T183642Z
LAST-MODIFIED:20240903T202209Z
UID:2693-1725386400-1725391800@westerncoloradowriters.org
SUMMARY:September Writer’s Night – Strengthen Your Writing: Using Metacognitive Reading Strategies as a Writer with Maria E. Cuthbert
DESCRIPTION:Writing with your readers in mind as you write\, or as you revise\, can be a strong basis for attractive pieces of creative writing. \nWhat is there about reading that we could be catching as we write? What are some phantom strategies we need to acknowledge? \nMaria E. Cuthbert will present “Metacognitive Reading Strategies” where you can analyze strategies used by readers before\, during\, and after reading. \nPreviewing these strategies can make you a stronger writer\, and make it easier for you to reach the readers’ minds. \nAll Writer’s Night events are held at the Art Center in Grand Junction. \nSpeaker Bio\n \nMaria E. Cuthbert is a writer\, graphite artist\, linguist\, and former professor of languages. She is the founder of the Dual Immersion Academy in Grand Junction\, Colorado. She has coauthored English and French textbooks based on reading for the University of Pedagogy used throughout Mexico. She has a book of poems\, “Siglos de Aire\,” 2010\, and has been included in an anthology of poetry in Spain\, “Mar de Nubes\,” where she has participated in global festivals. Her poetic work is discussed in “Surco de Libros\,” by Jaime Velazquez\, based on top writers. She published a bilingual online magazine\, Latinoticias MC\, from 2010 to 2013 including work by international writers\, artists\, and other celebrities. She has written for several newspapers in Colorado. \nMaria has taught English\, Spanish\, French\, and writing in different schools and universities\, and has translated from Italian and Portuguese also. At present\, she is part of the MIT Writers’ Group where she focuses mainly on poetry. She participates in a group for the conservation of French with international members as well\, and occasionally presents artistic work at the Art Center of Western Colorado. She has lived in Grand Junction since 1998\, where she became a U.S. Citizen in 2005. \n 
URL:https://westerncoloradowriters.org/event/september2024-writers-night/
LOCATION:Grand Junction Art Center\, 1803 No. 7th\, Grand Junction\, Colorado\, 81501
CATEGORIES:Writer's Nights
ATTACH;FMTTYPE=image/jpeg:https://westerncoloradowriters.org/wp-content/uploads/2024/02/hand-1868015_1280.jpg
END:VEVENT
END:VCALENDAR