BEGIN:VCALENDAR
VERSION:2.0
PRODID:-//Western Colorado Writers&#039; Forum - ECPv6.15.3//NONSGML v1.0//EN
CALSCALE:GREGORIAN
METHOD:PUBLISH
X-WR-CALNAME:Western Colorado Writers&#039; Forum
X-ORIGINAL-URL:https://westerncoloradowriters.org
X-WR-CALDESC:Events for Western Colorado Writers&#039; Forum
REFRESH-INTERVAL;VALUE=DURATION:PT1H
X-Robots-Tag:noindex
X-PUBLISHED-TTL:PT1H
BEGIN:VTIMEZONE
TZID:America/Denver
BEGIN:DAYLIGHT
TZOFFSETFROM:-0700
TZOFFSETTO:-0600
TZNAME:MDT
DTSTART:20250309T090000
END:DAYLIGHT
BEGIN:STANDARD
TZOFFSETFROM:-0600
TZOFFSETTO:-0700
TZNAME:MST
DTSTART:20251102T080000
END:STANDARD
END:VTIMEZONE
BEGIN:VEVENT
DTSTART;TZID=America/Denver:20251202T180000
DTEND;TZID=America/Denver:20251202T193000
DTSTAMP:20260423T154012
CREATED:20251101T164227Z
LAST-MODIFIED:20251101T164227Z
UID:4551-1764698400-1764703800@westerncoloradowriters.org
SUMMARY:December Writer’s Night: Annual Spoken Word Open Mic Event
DESCRIPTION:Our annual Open Mic Night is Tuesday\, December 2\, 2025\, from 6-7:30 pm at the Art Center in Grand Junction. Bring your short works and poetry and take the mic! This is a spoken word event. \nOur total time is an hour-and-a-half. Every year we have many readers\, so keeping a time limit allows everyone to have a chance at the mic. We will have a timekeeper again this year\, and our max time limit is 6 minutes\, so please plan accordingly. \nA 30-line poem takes about 2 minutes to read\, and a 700-word story takes about 5 minutes. If we can do more than one round\, we will. \nWe appreciate RSVPs for seat-planning purposes\, and please note that readers will sign up on-site. Doors open 15 minutes early to allow for this.
URL:https://westerncoloradowriters.org/event/december-writers-night-2025/
LOCATION:The Art Center\, 1803 N. 7th Street\, Grand Junction\, CO\, 81501\, United States
CATEGORIES:Open Mic,Writer's Nights
ATTACH;FMTTYPE=image/jpeg:https://westerncoloradowriters.org/wp-content/uploads/2024/02/hand-1868015_1280.jpg
END:VEVENT
END:VCALENDAR