BEGIN:VCALENDAR
VERSION:2.0
PRODID:-//Western Colorado Writers&#039; Forum - ECPv6.15.3//NONSGML v1.0//EN
CALSCALE:GREGORIAN
METHOD:PUBLISH
X-ORIGINAL-URL:https://westerncoloradowriters.org
X-WR-CALDESC:Events for Western Colorado Writers&#039; Forum
REFRESH-INTERVAL;VALUE=DURATION:PT1H
X-Robots-Tag:noindex
X-PUBLISHED-TTL:PT1H
BEGIN:VTIMEZONE
TZID:America/Denver
BEGIN:DAYLIGHT
TZOFFSETFROM:-0700
TZOFFSETTO:-0600
TZNAME:MDT
DTSTART:20260308T090000
END:DAYLIGHT
BEGIN:STANDARD
TZOFFSETFROM:-0600
TZOFFSETTO:-0700
TZNAME:MST
DTSTART:20261101T080000
END:STANDARD
END:VTIMEZONE
BEGIN:VEVENT
DTSTART;TZID=America/Denver:20260203T180000
DTEND;TZID=America/Denver:20260203T193000
DTSTAMP:20260423T113436
CREATED:20251229T212220Z
LAST-MODIFIED:20251229T215502Z
UID:4645-1770141600-1770147000@westerncoloradowriters.org
SUMMARY:February Writers Night: Hidden Treasures Writing Workshop with Lisa Wence Connors
DESCRIPTION:Have you ever noticed the treasure trove of language swirling around you every day? How many fabulous and unexpected words and phrases are you allowing to just slip past you? Workshop presenter and poet Lisa Wence Connors will discuss strategies for finding those hidden gems\, organizing them\, and enhancing your writing. \nThis is a generative workshop\, not confined to poetry. At the conclusion of the workshop\, each attendee will be able to produce new work based on hidden treasures taken from the materials provided in the workshop and to revise old work with an emphasis on unexpected language. \nJoin us on Tuesday\, February 3\, 2026\, from 6-7:30 pm at The Art Center at 7th and Orchard in Grand Junction. \nSpeaker Bio\n \nLisa Wence Connors is retired US Army and a published poet. She has conducted workshops for the Salt Lake City Public Library System under the auspices of the Utah Arts and Humanities Commission. She facilitates the monthly Poetry Night at the Library program for Mesa County Library. She has also conducted five iterations of the Discover Creative Writing Workshop for the Grand Junction VA\, and is the editor for High Desert Cadence: A Journal of Veteran Creative Writing. Most recently\, Lisa was a featured presenter at the Creative Colorado Writers Retreat.
URL:https://westerncoloradowriters.org/event/february-writers-night-2026/
LOCATION:The Art Center\, 1803 N. 7th Street\, Grand Junction\, CO\, 81501\, United States
END:VEVENT
BEGIN:VEVENT
DTSTART;TZID=America/Denver:20260219T160000
DTEND;TZID=America/Denver:20260219T180000
DTSTAMP:20260423T113436
CREATED:20251211T233026Z
LAST-MODIFIED:20251211T233656Z
UID:4614-1771516800-1771524000@westerncoloradowriters.org
SUMMARY:WCWF Happy Hour
DESCRIPTION:Join fellow writers and WCWF board members at our monthly *happy hour. It’s a great opportunity to get to know your fellow writers in a casual and relaxed atmosphere. We know you’re a bunch of introverts – come see us anyway! It really is fun. Then you can go home and rest after all that “peopling” you did. *This is not a drinking event – it just happens to fall during the hours known as happy hour. \nWe meet on the third Thursday of every month from 4-6 p.m. at Kannah Creek in Grand Junction\, located at 1960 N. 12th Street. \nWe only request an RSVP if you are bringing a large party\, like 6 or so. Then we can make appropriate table arrangements. \nSee you there! \np.s. Have you checked out our blog? Lots of good information and observations for writers!
URL:https://westerncoloradowriters.org/event/wcwf-happy-hour-24/
LOCATION:Kannah Creek Brewing Company\, 1960 N. 12th Street\, Grand Junction\, CO\, 81501\, United States
CATEGORIES:Happy Hour
ATTACH;FMTTYPE=image/jpeg:https://westerncoloradowriters.org/wp-content/uploads/2024/02/kannah.jpg
END:VEVENT
END:VCALENDAR