BEGIN:VCALENDAR
VERSION:2.0
PRODID:-//Western Colorado Writers&#039; Forum - ECPv6.15.3//NONSGML v1.0//EN
CALSCALE:GREGORIAN
METHOD:PUBLISH
X-WR-CALNAME:Western Colorado Writers&#039; Forum
X-ORIGINAL-URL:https://westerncoloradowriters.org
X-WR-CALDESC:Events for Western Colorado Writers&#039; Forum
REFRESH-INTERVAL;VALUE=DURATION:PT1H
X-Robots-Tag:noindex
X-PUBLISHED-TTL:PT1H
BEGIN:VTIMEZONE
TZID:America/Denver
BEGIN:DAYLIGHT
TZOFFSETFROM:-0700
TZOFFSETTO:-0600
TZNAME:MDT
DTSTART:20250309T090000
END:DAYLIGHT
BEGIN:STANDARD
TZOFFSETFROM:-0600
TZOFFSETTO:-0700
TZNAME:MST
DTSTART:20251102T080000
END:STANDARD
END:VTIMEZONE
BEGIN:VEVENT
DTSTART;TZID=America/Denver:20251007T180000
DTEND;TZID=America/Denver:20251007T193000
DTSTAMP:20260423T171052
CREATED:20250514T221307Z
LAST-MODIFIED:20250520T000055Z
UID:4252-1759860000-1759865400@westerncoloradowriters.org
SUMMARY:October Writer's Night - Getting Your Book on the Library Shelf with Mesa County Libraries
DESCRIPTION:For our October Writer’s Night\, learn the library’s process for getting local authors’ titles on the shelves and setting up book signings. This writer’s night will also cover other ways the library supports writers. If there’s time\, the presenters may read selections from local authors’ books that are in the library collection. \n  \nSpeaker Bios\nMichelle Boisvenue-Fox\, the Executive Director at Mesa County Libraries\, works to build community through partnerships\, programs\, and events. Michelle believes that people are the most important thing to a library. As a result\, libraries change lives in big and small ways. Michelle holds a Master’s degree in Library and Information Science from the University of Illinois and has more than 20 years of public and academic library experience. \n  \nLisa Solko\, Head of Collection Management at Mesa County Libraries\, oversees the collection and deselection of library material at eight library locations as well as electronic books and audiobooks. She holds a Master’s in Library and Information Science from the University of Wisconsin\, and a Bachelor of Fine Arts in Art History and Studio Art from Colorado Mesa University. Lisa enjoys using insights derived from data and research to attain harmonic results that reflect community\, originality\, and variety.
URL:https://westerncoloradowriters.org/event/october-writers-night-getting-your-book-on-the-library-shelf-with-mesa-county-libraries/
LOCATION:The Art Center\, 1803 N. 7th Street\, Grand Junction\, CO\, 81501\, United States
CATEGORIES:Writer's Nights
ATTACH;FMTTYPE=image/png:https://westerncoloradowriters.org/wp-content/uploads/2024/01/cropped-LargeLogo.png
END:VEVENT
BEGIN:VEVENT
DTSTART;TZID=America/Denver:20251016T160000
DTEND;TZID=America/Denver:20251016T180000
DTSTAMP:20260423T171052
CREATED:20250404T170825Z
LAST-MODIFIED:20250404T170825Z
UID:4166-1760630400-1760637600@westerncoloradowriters.org
SUMMARY:WCWF Happy Hour
DESCRIPTION:Join fellow writers and WCWF board members at our monthly *happy hour. It’s a great opportunity to get to know your fellow writers in a casual and relaxed atmosphere. We know you’re a bunch of introverts – come see us anyway! It really is fun. Then you can go home and rest after all that “peopling” you did. *This is not a drinking event – it just happens to fall during the hours known as happy hour. \nWe meet the third Thursday of every month from 4-6 p.m. at Kannah Creek in Grand Junction\, located at 1960 N. 12th Street. \nWe only request an RSVP if you are bringing a large party\, like 6 or so. Then we can make appropriate table arrangements. \nSee you there! \np.s. Have you checked out our blog? Lots of good information and observations for writers!
URL:https://westerncoloradowriters.org/event/wcwf-happy-hour-19/
LOCATION:Kannah Creek Brewing Company\, 1960 N. 12th Street\, Grand Junction\, CO\, 81501\, United States
CATEGORIES:Other
ATTACH;FMTTYPE=image/jpeg:https://westerncoloradowriters.org/wp-content/uploads/2024/02/kannah.jpg
END:VEVENT
END:VCALENDAR