BEGIN:VCALENDAR
VERSION:2.0
PRODID:-//Western Colorado Writers&#039; Forum - ECPv6.15.3//NONSGML v1.0//EN
CALSCALE:GREGORIAN
METHOD:PUBLISH
X-ORIGINAL-URL:https://westerncoloradowriters.org
X-WR-CALDESC:Events for Western Colorado Writers&#039; Forum
REFRESH-INTERVAL;VALUE=DURATION:PT1H
X-Robots-Tag:noindex
X-PUBLISHED-TTL:PT1H
BEGIN:VTIMEZONE
TZID:America/Denver
BEGIN:DAYLIGHT
TZOFFSETFROM:-0700
TZOFFSETTO:-0600
TZNAME:MDT
DTSTART:20250309T090000
END:DAYLIGHT
BEGIN:STANDARD
TZOFFSETFROM:-0600
TZOFFSETTO:-0700
TZNAME:MST
DTSTART:20251102T080000
END:STANDARD
END:VTIMEZONE
BEGIN:VEVENT
DTSTART;TZID=America/Denver:20250701T180000
DTEND;TZID=America/Denver:20250701T193000
DTSTAMP:20260423T213042
CREATED:20250313T155340Z
LAST-MODIFIED:20250505T152744Z
UID:4077-1751392800-1751398200@westerncoloradowriters.org
SUMMARY:July Writer's Night - Write Matters: A Session with Bob Silbernagel
DESCRIPTION:For our July Writer’s Night\, Bob Silbernagel will discuss what he’s learned during his long writing career: when he started writing\, why he writes\, how he learned to write better and love good editors\, and the methods he uses to write. He will also speak more generally about the publishing industry\, including trends with book publishing newspapers. He will offer his ideas on improving writing and will answer questions. \n  \nAll Writer’s Nights are held at The Art Center in Grand Junction\, near 7th and Orchard\, on the first Tuesday of the month from 6-7:30 p.m. \n  \nSpeaker Bio\nBob Silbernagel writes a regional history column for The Daily Sentinel in Grand Junction. His most recent book\, First Draft: Exploring the History of Western Colorado and Eastern Utah\, is a collection of 40 of those columns\, published in 2023. \nIn addition\, he is the author of The Cadottes: A Fur Trade Family on Lake Superior; Troubled Trails: The Meeker Affair and the Expulsion of Utes from Colorado; and Historic Adventures on The Colorado Plateau. \nMr. Silbernagel was the editorial page editor for The Daily Sentinel newspaper in Grand Junction for 19 years. When not writing\, he enjoys horseback riding\, hiking\, and camping. \nHe and his wife\, Judy\, live near Palisade\, Colorado. \nCheck out the Western Colorado Writers’ Forum Events section to discover what’s happening next!
URL:https://westerncoloradowriters.org/event/july-writers-night/
LOCATION:The Art Center\, 1803 N. 7th Street\, Grand Junction\, CO\, 81501\, United States
CATEGORIES:Writer's Nights
ATTACH;FMTTYPE=image/jpeg:https://westerncoloradowriters.org/wp-content/uploads/2024/02/hand-1868015_1280.jpg
END:VEVENT
BEGIN:VEVENT
DTSTART;TZID=America/Denver:20250717T160000
DTEND;TZID=America/Denver:20250717T180000
DTSTAMP:20260423T213042
CREATED:20250404T170214Z
LAST-MODIFIED:20250404T170214Z
UID:4160-1752768000-1752775200@westerncoloradowriters.org
SUMMARY:WCWF Happy Hour
DESCRIPTION:Join fellow writers and WCWF board members at our monthly *happy hour. It’s a great opportunity to get to know your fellow writers in a casual and relaxed atmosphere. We know you’re a bunch of introverts – come see us anyway! It really is fun. Then you can go home and rest after all that “peopling” you did. *This is not a drinking event – it just happens to fall during the hours known as happy hour. \nWe meet the third Thursday of every month from 4-6 p.m. at Kannah Creek in Grand Junction\, located at 1960 N. 12th Street. \nWe only request an RSVP if you are bringing a large party\, like 6 or so. Then we can make appropriate table arrangements. \nSee you there! \np.s. Have you checked out our blog? Lots of good information and observations for writers!
URL:https://westerncoloradowriters.org/event/wcwf-happy-hour-17/
LOCATION:Kannah Creek Brewing Company\, 1960 N. 12th Street\, Grand Junction\, CO\, 81501\, United States
CATEGORIES:Other
ATTACH;FMTTYPE=image/jpeg:https://westerncoloradowriters.org/wp-content/uploads/2024/02/kannah.jpg
END:VEVENT
END:VCALENDAR