BEGIN:VCALENDAR
VERSION:2.0
PRODID:-//Western Colorado Writers&#039; Forum - ECPv6.15.3//NONSGML v1.0//EN
CALSCALE:GREGORIAN
METHOD:PUBLISH
X-WR-CALNAME:Western Colorado Writers&#039; Forum
X-ORIGINAL-URL:https://westerncoloradowriters.org
X-WR-CALDESC:Events for Western Colorado Writers&#039; Forum
REFRESH-INTERVAL;VALUE=DURATION:PT1H
X-Robots-Tag:noindex
X-PUBLISHED-TTL:PT1H
BEGIN:VTIMEZONE
TZID:America/Denver
BEGIN:DAYLIGHT
TZOFFSETFROM:-0700
TZOFFSETTO:-0600
TZNAME:MDT
DTSTART:20240310T090000
END:DAYLIGHT
BEGIN:STANDARD
TZOFFSETFROM:-0600
TZOFFSETTO:-0700
TZNAME:MST
DTSTART:20241103T080000
END:STANDARD
END:VTIMEZONE
BEGIN:VEVENT
DTSTART;TZID=America/Denver:20241203T180000
DTEND;TZID=America/Denver:20241203T193000
DTSTAMP:20260424T065414
CREATED:20240221T185355Z
LAST-MODIFIED:20241122T202404Z
UID:2708-1733248800-1733254200@westerncoloradowriters.org
SUMMARY:December Writer’s Night: Annual Spoken Word Open Mic Event
DESCRIPTION:Our annual Open Mic Night is Tuesday\, December 3 from 6-7:30 pm at the Art Center in Grand Junction. Bring your short works and poetry and take the mic! This is a spoken word event. \nOur total time is an hour-and-a-half. Last year we had several readers\, so keeping a time limit allowed everyone to have a chance at the mic. We will have a timekeeper again this year\, and due to community requests\, we are upping the limit to 6 minutes\, so plan accordingly. \nA 30-line poem takes about 2 minutes to read\, and a 700-word story takes about 5 minutes. If we can do more than one round\, we will. \nWe appreciate RSVPs for seat-planning purposes\, and please note that readers will sign up on-site. Doors open 15 minutes early to allow for this. \n 
URL:https://westerncoloradowriters.org/event/december-2024-writers-night-open-mic/
LOCATION:The Art Center\, 1803 N. 7th Street\, Grand Junction\, CO\, 81501\, United States
CATEGORIES:Open Mic,Writer's Nights
ATTACH;FMTTYPE=image/jpeg:https://westerncoloradowriters.org/wp-content/uploads/2024/02/hand-1868015_1280.jpg
END:VEVENT
BEGIN:VEVENT
DTSTART;TZID=America/Denver:20241219T160000
DTEND;TZID=America/Denver:20241219T180000
DTSTAMP:20260424T065414
CREATED:20240730T165224Z
LAST-MODIFIED:20240730T165613Z
UID:3251-1734624000-1734631200@westerncoloradowriters.org
SUMMARY:WCWF Happy Hour
DESCRIPTION:Join fellow writers and WCWF board members at our monthly happy hour. It’s a great opportunity to get to know your fellow writers in a casual and relaxed atmosphere. We know you’re a bunch of introverts – come see us anyway! It really is fun. Then you can go home and rest after all that “peopling” you did. \nWe meet the third Thursday of every month from 4-6 p.m. at Kannah Creek in Grand Junction\, located at 1960 N. 12th Street. \nWe only request an RSVP if you are bringing a large party\, like 6 or so. Then we can make appropriate table arrangements. \nSee you there! \np.s. Have you checked out our blog? Lots of good information and observations for writers!
URL:https://westerncoloradowriters.org/event/wcwf-happy-hour-12/
LOCATION:Kannah Creek Brewing Company\, 1960 N. 12th Street\, Grand Junction\, CO\, 81501\, United States
CATEGORIES:Other
ATTACH;FMTTYPE=image/jpeg:https://westerncoloradowriters.org/wp-content/uploads/2024/02/kannah.jpg
END:VEVENT
END:VCALENDAR