BEGIN:VCALENDAR
VERSION:2.0
PRODID:-//Western Colorado Writers&#039; Forum - ECPv6.15.3//NONSGML v1.0//EN
CALSCALE:GREGORIAN
METHOD:PUBLISH
X-WR-CALNAME:Western Colorado Writers&#039; Forum
X-ORIGINAL-URL:https://westerncoloradowriters.org
X-WR-CALDESC:Events for Western Colorado Writers&#039; Forum
REFRESH-INTERVAL;VALUE=DURATION:PT1H
X-Robots-Tag:noindex
X-PUBLISHED-TTL:PT1H
BEGIN:VTIMEZONE
TZID:America/Denver
BEGIN:DAYLIGHT
TZOFFSETFROM:-0700
TZOFFSETTO:-0600
TZNAME:MDT
DTSTART:20240310T090000
END:DAYLIGHT
BEGIN:STANDARD
TZOFFSETFROM:-0600
TZOFFSETTO:-0700
TZNAME:MST
DTSTART:20241103T080000
END:STANDARD
END:VTIMEZONE
BEGIN:VEVENT
DTSTART;TZID=America/Denver:20241105T180000
DTEND;TZID=America/Denver:20241105T193000
DTSTAMP:20260424T081649
CREATED:20240221T184724Z
LAST-MODIFIED:20241018T163831Z
UID:2706-1730829600-1730835000@westerncoloradowriters.org
SUMMARY:Rescheduled! November Writer’s Night – Fun with the Forum Fundraiser Event
DESCRIPTION:Note to outside agencies emailing us: we are not seeking additional help with the auction.\nFolks\, the WCWF Silent Auction and Fundraiser for 2024 has been rescheduled!\nDue to a number of challenges\, the board decided to reschedule our annual fundraiser from November 5\, 2024\, to Tuesday\, March 4\, 2025. All the details are at this link\, and we will add more as they become available. \nThanks so much for your understanding and ongoing support of the forum!
URL:https://westerncoloradowriters.org/event/november-writers-night-the-2024-wcwf-silent-auction-and-fundraiser-event/
LOCATION:Grand Junction Art Center\, 1803 No. 7th\, Grand Junction\, Colorado\, 81501
CATEGORIES:Silent Auction,Writer's Nights
ATTACH;FMTTYPE=image/jpeg:https://westerncoloradowriters.org/wp-content/uploads/2024/02/hand-1868015_1280.jpg
END:VEVENT
BEGIN:VEVENT
DTSTART;TZID=America/Denver:20241121T160000
DTEND;TZID=America/Denver:20241121T180000
DTSTAMP:20260424T081649
CREATED:20231120T191633Z
LAST-MODIFIED:20240730T170242Z
UID:2119-1732204800-1732212000@westerncoloradowriters.org
SUMMARY:WCWF Happy Hour
DESCRIPTION:Join fellow writers and WCWF board members at our monthly happy hour. It’s a great opportunity to get to know your fellow writers in a casual and relaxed atmosphere. We know you’re a bunch of introverts – come see us anyway! It really is fun. \nWe meet the third Thursday of every month from 4-6 p.m. at Kannah Creek in Grand Junction\, located at 1960 N. 12th Street. \nWe only request an RSVP if you are bringing a large party\, like 6 or so. Then we can make appropriate table arrangements. \nSee you there! \np.s. Have you checked out our blog? Lots of good information and observations for writers!
URL:https://westerncoloradowriters.org/event/wcwf-happy-hour-11/
LOCATION:Kannah Creek Brewing Company\, 1960 N. 12th Street\, Grand Junction\, CO\, 81501\, United States
CATEGORIES:Other
ATTACH;FMTTYPE=image/jpeg:https://westerncoloradowriters.org/wp-content/uploads/2024/02/kannah.jpg
END:VEVENT
END:VCALENDAR