BEGIN:VCALENDAR
VERSION:2.0
PRODID:-//Western Colorado Writers&#039; Forum - ECPv6.15.3//NONSGML v1.0//EN
CALSCALE:GREGORIAN
METHOD:PUBLISH
X-ORIGINAL-URL:https://westerncoloradowriters.org
X-WR-CALDESC:Events for Western Colorado Writers&#039; Forum
REFRESH-INTERVAL;VALUE=DURATION:PT1H
X-Robots-Tag:noindex
X-PUBLISHED-TTL:PT1H
BEGIN:VTIMEZONE
TZID:America/Denver
BEGIN:DAYLIGHT
TZOFFSETFROM:-0700
TZOFFSETTO:-0600
TZNAME:MDT
DTSTART:20240310T090000
END:DAYLIGHT
BEGIN:STANDARD
TZOFFSETFROM:-0600
TZOFFSETTO:-0700
TZNAME:MST
DTSTART:20241103T080000
END:STANDARD
END:VTIMEZONE
BEGIN:VEVENT
DTSTART;TZID=America/Denver:20240702T180000
DTEND;TZID=America/Denver:20240702T193000
DTSTAMP:20260424T134048
CREATED:20240407T214522Z
LAST-MODIFIED:20240408T140138Z
UID:2901-1719943200-1719948600@westerncoloradowriters.org
SUMMARY:July Writer's Night - Discovering the Magnificence: Words\, Wonder and Wisdom with Wendy Videlock
DESCRIPTION:Come learn how you can deepen your relationship to language\, hush your inner critic\, activate your imagination\, and cultivate a meaningful and regular writing practice. This lively presentation will inspire you to reconsider the nature of curiosity\, creativity\, opportunity and your working relationship to words. Led by award winning poet\, syndicated newspaper columnist\, essayist\, and poet laureate of the Western Slope\, Wendy Videlock.\n\n\n  \n Speaker Bio\nWendy Videlock lives on the edge of a canyon in Palisade\, where the peaches grow in abundance and the vineyards stretch across the valley. Her syndicated newspaper column appears across the four-corner states. Wendy teaches and advocates for the arts in schools and public spaces. Her essays and poems appear most notably in The New York Times\, Poetry Magazine\, Hudson Review\, O Magazine\, Best American Poetry and Rattle. Her books of poems and essays are available wherever books are sold and her art is featured in galleries across the Grand Valley.Wendy believes that the arts and humanities might just be the answer to all that ails us. She currently serves as poet laureate of Western Colorado. For more\, visit this link.
URL:https://westerncoloradowriters.org/event/july-writers-night-2024/
LOCATION:7th and Orchard\, Grand Junction CO
CATEGORIES:Writer's Nights
END:VEVENT
BEGIN:VEVENT
DTSTART;TZID=America/Denver:20240718T160000
DTEND;TZID=America/Denver:20240718T180000
DTSTAMP:20260424T134048
CREATED:20231120T191455Z
LAST-MODIFIED:20240316T202330Z
UID:2115-1721318400-1721325600@westerncoloradowriters.org
SUMMARY:WCWF Happy Hour
DESCRIPTION:Join fellow writers and WCWF board members at our monthly happy hour. It’s a great opportunity to get to know your fellow writers in a casual and relaxed atmosphere. We know you’re a bunch of introverts – come see us anyway! \nWe meet the third Thursday of every month from 4-6 p.m. at Kannah Creek in Grand Junction\, located at 1960 N. 12th Street.  We do request that you RSVP so we can make appropriate table arrangements. \nRSVP by email to wcwritersforum@gmail.com with the subject line RSVP for Happy Hour.
URL:https://westerncoloradowriters.org/event/wcwf-happy-hour-7/
LOCATION:Kannah Creek Brewing Company\, 1960 N. 12th Street\, Grand Junction\, CO\, 81501\, United States
CATEGORIES:Other
ATTACH;FMTTYPE=image/jpeg:https://westerncoloradowriters.org/wp-content/uploads/2024/02/kannah.jpg
END:VEVENT
END:VCALENDAR