BEGIN:VCALENDAR
VERSION:2.0
PRODID:-//Western Colorado Writers&#039; Forum - ECPv6.15.3//NONSGML v1.0//EN
CALSCALE:GREGORIAN
METHOD:PUBLISH
X-ORIGINAL-URL:https://westerncoloradowriters.org
X-WR-CALDESC:Events for Western Colorado Writers&#039; Forum
REFRESH-INTERVAL;VALUE=DURATION:PT1H
X-Robots-Tag:noindex
X-PUBLISHED-TTL:PT1H
BEGIN:VTIMEZONE
TZID:America/Denver
BEGIN:DAYLIGHT
TZOFFSETFROM:-0700
TZOFFSETTO:-0600
TZNAME:MDT
DTSTART:20240310T090000
END:DAYLIGHT
BEGIN:STANDARD
TZOFFSETFROM:-0600
TZOFFSETTO:-0700
TZNAME:MST
DTSTART:20241103T080000
END:STANDARD
END:VTIMEZONE
BEGIN:VEVENT
DTSTART;TZID=America/Denver:20240507T180000
DTEND;TZID=America/Denver:20240507T193000
DTSTAMP:20260424T161939
CREATED:20240229T202134Z
LAST-MODIFIED:20240316T201113Z
UID:2747-1715104800-1715110200@westerncoloradowriters.org
SUMMARY:May Writer's Night - From Survivor to Author: One Woman's Story with Kelly Ashford
DESCRIPTION:Join Kelly Ashford as she shares her story of surviving 11 days lost in the Colorado Rocky Mountain wilderness including her recovery from near death\, PTSD\, and her profound spiritual awakening. After years of journaling\, she decided to compile her notes into a manuscript and her book endurance was born. \nKelly will share writing tips\, self-publishing resources\, and other helpful information to aid aspiring authors in the pursuit of becoming published. An experienced hiker\, she will also share interesting data about lost hikers and a survival supply list included in her book. \n  \nBio Kelly Ashford \n“I am a true Colorado native\, 14th generation native to Colorado that loves all that Colorado outdoors offers\, especially hiking. I’ve summited several fourteeners and over the years hiked hundreds of miles in our beautiful state. Every day I am grateful to be alive and enjoy the splendor of the Grand Valley where we now live. \nBeing in nature is like water to my soul and connects me to the energy of our great mother Earth. I’m also an energy healer for the past 15 years and practice daily meditation\, prayer\, and yoga. I enjoy skiing\, have a love of opera\, learning about history\, world religions\, mythology\, and holistic healing. A favorite past-time is to read both fiction and non-fiction\, and now having had a survival experience\, really enjoy books about the amazing spirit and resilience of other survivors. \nThomas is my wonderful husband of almost 25 years\, and we are parents of two grown children\, both of whom are avid snowboarders who love camping\, mountain biking and the great outdoors. Our son Ryan is currently serving his seventh year in the US Air Force and our daughter Paige is here on the western slope working in the ski and resort industry. I love being mom to our two rescue dogs\, Sim and Tula Sue\, that have blessed us for the last six years with their companionship along many miles of hiking and adventure.”
URL:https://westerncoloradowriters.org/event/may-2024-writers-night/
LOCATION:The Art Center\, 1803 N. 7th Street\, Grand Junction\, CO\, 81501\, United States
CATEGORIES:Writer's Nights
ATTACH;FMTTYPE=image/jpeg:https://westerncoloradowriters.org/wp-content/uploads/2024/02/hand-1868015_1920.jpg
END:VEVENT
BEGIN:VEVENT
DTSTART;TZID=America/Denver:20240516T160000
DTEND;TZID=America/Denver:20240516T180000
DTSTAMP:20260424T161939
CREATED:20231120T191412Z
LAST-MODIFIED:20240316T202443Z
UID:2113-1715875200-1715882400@westerncoloradowriters.org
SUMMARY:WCWF Happy Hour
DESCRIPTION:Join fellow writers and WCWF board members at our monthly happy hour. It’s a great opportunity to get to know your fellow writers in a casual and relaxed atmosphere. We know you’re a bunch of introverts – come see us anyway! \nWe meet the third Thursday of every month from 4-6 p.m. at Kannah Creek in Grand Junction\, located at 1960 N. 12th Street.  We do request that you RSVP so we can make appropriate table arrangements. \nRSVP by email to wcwritersforum@gmail.com with the subject line RSVP for Happy Hour.
URL:https://westerncoloradowriters.org/event/wcwf-happy-hour-5/
LOCATION:Kannah Creek Brewing Company\, 1960 N. 12th Street\, Grand Junction\, CO\, 81501\, United States
CATEGORIES:Other
ATTACH;FMTTYPE=image/jpeg:https://westerncoloradowriters.org/wp-content/uploads/2024/02/kannah.jpg
END:VEVENT
END:VCALENDAR