BEGIN:VCALENDAR
VERSION:2.0
PRODID:-//Western Colorado Writers&#039; Forum - ECPv6.15.3//NONSGML v1.0//EN
CALSCALE:GREGORIAN
METHOD:PUBLISH
X-WR-CALNAME:Western Colorado Writers&#039; Forum
X-ORIGINAL-URL:https://westerncoloradowriters.org
X-WR-CALDESC:Events for Western Colorado Writers&#039; Forum
REFRESH-INTERVAL;VALUE=DURATION:PT1H
X-Robots-Tag:noindex
X-PUBLISHED-TTL:PT1H
BEGIN:VTIMEZONE
TZID:America/Denver
BEGIN:DAYLIGHT
TZOFFSETFROM:-0700
TZOFFSETTO:-0600
TZNAME:MDT
DTSTART:20250309T090000
END:DAYLIGHT
BEGIN:STANDARD
TZOFFSETFROM:-0600
TZOFFSETTO:-0700
TZNAME:MST
DTSTART:20251102T080000
END:STANDARD
END:VTIMEZONE
BEGIN:VEVENT
DTSTART;TZID=America/Denver:20250124T163000
DTEND;TZID=America/Denver:20250124T180000
DTSTAMP:20260424T071913
CREATED:20240730T163057Z
LAST-MODIFIED:20241227T174134Z
UID:3244-1737736200-1737741600@westerncoloradowriters.org
SUMMARY:Spoken Word Open Mic Night - Fourth Fridays
DESCRIPTION:Join us every month on fourth Fridays for a Spoken Word Open Mic Night from 4:30-6:00 p.m. The Western Colorado Writers’ Forum has partnered with Carboy Winery in Palisade to bring you this opportunity to read your work. We welcome poetry\, prose\, storytelling\, and slam\, and all skill levels are welcome. \nSignups start onsite at 4:15 and there is a 5-7 minute time limit. We’ve had new readers attend these sessions\, and the time limits are our effort to make sure everyone has a chance at the mic. Any time limit is not to limit your voice but to encourage inclusion. \nThis event is in the production facility on the ground level\, so there are no stairs to negotiate. It is cooler in this room because this is where they make the wine. You may want to bring an extra layer. In warmer months\, we may host this event outside. \nPlease note while there are a variety of beverages available\, you are not required to make a purchase to attend this Open Mic. \nLocation: 3572 G Rd\, Palisade\, CO 81526.
URL:https://westerncoloradowriters.org/event/spoken-word-open-mic-night-fourth-fridays/
LOCATION:Carboy Winery Grand Valley\, 3572 G Rd\, Palisade\, CO\, 81526\, United States
CATEGORIES:Open Mic
ATTACH;FMTTYPE=image/jpeg:https://westerncoloradowriters.org/wp-content/uploads/2024/07/openmicgraphic.jpg
END:VEVENT
END:VCALENDAR