BEGIN:VCALENDAR
VERSION:2.0
PRODID:-//Western Colorado Writers&#039; Forum - ECPv6.15.3//NONSGML v1.0//EN
CALSCALE:GREGORIAN
METHOD:PUBLISH
X-ORIGINAL-URL:https://westerncoloradowriters.org
X-WR-CALDESC:Events for Western Colorado Writers&#039; Forum
REFRESH-INTERVAL;VALUE=DURATION:PT1H
X-Robots-Tag:noindex
X-PUBLISHED-TTL:PT1H
BEGIN:VTIMEZONE
TZID:America/Denver
BEGIN:DAYLIGHT
TZOFFSETFROM:-0700
TZOFFSETTO:-0600
TZNAME:MDT
DTSTART:20250309T090000
END:DAYLIGHT
BEGIN:STANDARD
TZOFFSETFROM:-0600
TZOFFSETTO:-0700
TZNAME:MST
DTSTART:20251102T080000
END:STANDARD
BEGIN:DAYLIGHT
TZOFFSETFROM:-0700
TZOFFSETTO:-0600
TZNAME:MDT
DTSTART:20260308T090000
END:DAYLIGHT
BEGIN:STANDARD
TZOFFSETFROM:-0600
TZOFFSETTO:-0700
TZNAME:MST
DTSTART:20261101T080000
END:STANDARD
END:VTIMEZONE
BEGIN:VEVENT
DTSTART;TZID=America/Denver:20250108T180000
DTEND;TZID=America/Denver:20250108T194500
DTSTAMP:20260425T093422
CREATED:20240313T194755Z
LAST-MODIFIED:20240313T194755Z
UID:2853-1736359200-1736365500@westerncoloradowriters.org
SUMMARY:Poetry Night at the Library
DESCRIPTION:Poetry Night at the Library is a monthly program at the Mesa County Library. Each month poets are invited to read their work based on a previous month’s challenge\, or any other poem they’d like to read. Then\, a new topic is discussed and a new challenge is issued. Topics range from a particular poet\, to a school of poetry\, to a new tool for your poetry toolbox such as a form or poetic device. No poetry experience is required – all are welcome! \nPoetry Night occurs the second Wednesday of every month from 6-7:45 p.m. at the Central Library\, 443 N. 6th Street\, Grand Junction\, CO 81501.
URL:https://westerncoloradowriters.org/event/poetry-night-at-the-library-11/
LOCATION:Central Library\, 443 N 6th St\, Grand Junction\, CO\, 81501\, United States
CATEGORIES:Poetry Night
ATTACH;FMTTYPE=image/png:https://westerncoloradowriters.org/wp-content/uploads/2024/03/Poetry-Night-at-the-Library-2.png
END:VEVENT
BEGIN:VEVENT
DTSTART;TZID=America/Denver:20250212T180000
DTEND;TZID=America/Denver:20250212T194500
DTSTAMP:20260425T093422
CREATED:20241227T172455Z
LAST-MODIFIED:20241227T172455Z
UID:3762-1739383200-1739389500@westerncoloradowriters.org
SUMMARY:Poetry Night at the Library
DESCRIPTION:Poetry Night at the Library is a monthly program at the Mesa County Library. Each month poets are invited to read their work based on a previous month’s challenge\, or any other poem they’d like to read. Then\, a new topic is discussed and a new challenge is issued. Topics range from a particular poet\, to a school of poetry\, to a new tool for your poetry toolbox such as a form or poetic device. No poetry experience is required – all are welcome! \nPoetry Night occurs the second Wednesday of every month from 6-7:45 p.m. at the Central Library\, 443 N. 6th Street\, Grand Junction\, CO 81501. No RSVP is needed.
URL:https://westerncoloradowriters.org/event/poetry-night-at-the-library-12/
LOCATION:Central Library\, 443 N 6th St\, Grand Junction\, CO\, 81501\, United States
CATEGORIES:Poetry Night
ATTACH;FMTTYPE=image/png:https://westerncoloradowriters.org/wp-content/uploads/2024/12/PoetryNightWebsite-1.png
END:VEVENT
BEGIN:VEVENT
DTSTART;TZID=America/Denver:20250312T180000
DTEND;TZID=America/Denver:20250312T194500
DTSTAMP:20260425T093422
CREATED:20241227T172726Z
LAST-MODIFIED:20241227T172726Z
UID:3766-1741802400-1741808700@westerncoloradowriters.org
SUMMARY:Poetry Night at the Library
DESCRIPTION:Poetry Night at the Library is a monthly program at the Mesa County Library. Each month poets are invited to read their work based on a previous month’s challenge\, or any other poem they’d like to read. Then\, a new topic is discussed and a new challenge is issued. Topics range from a particular poet\, to a school of poetry\, to a new tool for your poetry toolbox such as a form or poetic device. No poetry experience is required – all are welcome! \nPoetry Night occurs the second Wednesday of every month from 6-7:45 p.m. at the Central Library\, 443 N. 6th Street\, Grand Junction\, CO 81501. No RSVP is needed.
URL:https://westerncoloradowriters.org/event/poetry-night-at-the-library-13/
LOCATION:Central Library\, 443 N 6th St\, Grand Junction\, CO\, 81501\, United States
CATEGORIES:Poetry Night
ATTACH;FMTTYPE=image/png:https://westerncoloradowriters.org/wp-content/uploads/2024/12/PoetryNightWebsite-1.png
END:VEVENT
BEGIN:VEVENT
DTSTART;TZID=America/Denver:20250409T180000
DTEND;TZID=America/Denver:20250409T194500
DTSTAMP:20260425T093422
CREATED:20241227T173022Z
LAST-MODIFIED:20241227T173022Z
UID:3768-1744221600-1744227900@westerncoloradowriters.org
SUMMARY:Poetry Night at the Library
DESCRIPTION:Poetry Night at the Library is a monthly program at the Mesa County Library. Each month poets are invited to read their work based on a previous month’s challenge\, or any other poem they’d like to read. Then\, a new topic is discussed and a new challenge is issued. Topics range from a particular poet\, to a school of poetry\, to a new tool for your poetry toolbox such as a form or poetic device. No poetry experience is required – all are welcome! \nPoetry Night occurs the second Wednesday of every month from 6-7:45 p.m. at the Central Library\, 443 N. 6th Street\, Grand Junction\, CO 81501. No RSVP is needed.
URL:https://westerncoloradowriters.org/event/poetry-night-at-the-library-14/
LOCATION:Central Library\, 443 N 6th St\, Grand Junction\, CO\, 81501\, United States
CATEGORIES:Poetry Night
ATTACH;FMTTYPE=image/png:https://westerncoloradowriters.org/wp-content/uploads/2024/12/PoetryNightWebsite-1.png
END:VEVENT
BEGIN:VEVENT
DTSTART;TZID=America/Denver:20250514T180000
DTEND;TZID=America/Denver:20250514T194500
DTSTAMP:20260425T093422
CREATED:20241227T173217Z
LAST-MODIFIED:20241227T173217Z
UID:3770-1747245600-1747251900@westerncoloradowriters.org
SUMMARY:Poetry Night at the Library
DESCRIPTION:Poetry Night at the Library is a monthly program at the Mesa County Library. Each month poets are invited to read their work based on a previous month’s challenge\, or any other poem they’d like to read. Then\, a new topic is discussed and a new challenge is issued. Topics range from a particular poet\, to a school of poetry\, to a new tool for your poetry toolbox such as a form or poetic device. No poetry experience is required – all are welcome! \nPoetry Night occurs the second Wednesday of every month from 6-7:45 p.m. at the Central Library\, 443 N. 6th Street\, Grand Junction\, CO 81501. No RSVP is needed.
URL:https://westerncoloradowriters.org/event/poetry-night-at-the-library-15/
LOCATION:Central Library\, 443 N 6th St\, Grand Junction\, CO\, 81501\, United States
CATEGORIES:Poetry Night
ATTACH;FMTTYPE=image/png:https://westerncoloradowriters.org/wp-content/uploads/2024/12/PoetryNightWebsite-1.png
END:VEVENT
BEGIN:VEVENT
DTSTART;TZID=America/Denver:20250611T180000
DTEND;TZID=America/Denver:20250611T194500
DTSTAMP:20260425T093422
CREATED:20241227T173546Z
LAST-MODIFIED:20241227T173546Z
UID:3772-1749664800-1749671100@westerncoloradowriters.org
SUMMARY:Poetry Night at the Library
DESCRIPTION:Poetry Night at the Library is a monthly program at the Mesa County Library. Each month poets are invited to read their work based on a previous month’s challenge\, or any other poem they’d like to read. Then\, a new topic is discussed and a new challenge is issued. Topics range from a particular poet\, to a school of poetry\, to a new tool for your poetry toolbox such as a form or poetic device. No poetry experience is required – all are welcome! \nPoetry Night occurs the second Wednesday of every month from 6-7:45 p.m. at the Central Library\, 443 N. 6th Street\, Grand Junction\, CO 81501. No RSVP is needed.
URL:https://westerncoloradowriters.org/event/poetry-night-at-the-library-16/
LOCATION:Central Library\, 443 N 6th St\, Grand Junction\, CO\, 81501\, United States
CATEGORIES:Poetry Night
ATTACH;FMTTYPE=image/png:https://westerncoloradowriters.org/wp-content/uploads/2024/12/PoetryNightWebsite-1.png
END:VEVENT
BEGIN:VEVENT
DTSTART;TZID=America/Denver:20250709T180000
DTEND;TZID=America/Denver:20250709T194500
DTSTAMP:20260425T093422
CREATED:20241227T173804Z
LAST-MODIFIED:20241227T173804Z
UID:3776-1752084000-1752090300@westerncoloradowriters.org
SUMMARY:Poetry Night at the Library
DESCRIPTION:Poetry Night at the Library is a monthly program at the Mesa County Library. Each month poets are invited to read their work based on a previous month’s challenge\, or any other poem they’d like to read. Then\, a new topic is discussed and a new challenge is issued. Topics range from a particular poet\, to a school of poetry\, to a new tool for your poetry toolbox such as a form or poetic device. No poetry experience is required – all are welcome! \nPoetry Night occurs the second Wednesday of every month from 6-7:45 p.m. at the Central Library\, 443 N. 6th Street\, Grand Junction\, CO 81501. No RSVP is needed.
URL:https://westerncoloradowriters.org/event/poetry-night-at-the-library-18/
LOCATION:Central Library\, 443 N 6th St\, Grand Junction\, CO\, 81501\, United States
CATEGORIES:Poetry Night
ATTACH;FMTTYPE=image/png:https://westerncoloradowriters.org/wp-content/uploads/2024/12/PoetryNightWebsite-1.png
END:VEVENT
BEGIN:VEVENT
DTSTART;TZID=America/Denver:20250813T180000
DTEND;TZID=America/Denver:20250813T194500
DTSTAMP:20260425T093422
CREATED:20241227T173616Z
LAST-MODIFIED:20241227T173656Z
UID:3774-1755108000-1755114300@westerncoloradowriters.org
SUMMARY:Poetry Night at the Library
DESCRIPTION:Poetry Night at the Library is a monthly program at the Mesa County Library. Each month poets are invited to read their work based on a previous month’s challenge\, or any other poem they’d like to read. Then\, a new topic is discussed and a new challenge is issued. Topics range from a particular poet\, to a school of poetry\, to a new tool for your poetry toolbox such as a form or poetic device. No poetry experience is required – all are welcome! \nPoetry Night occurs the second Wednesday of every month from 6-7:45 p.m. at the Central Library\, 443 N. 6th Street\, Grand Junction\, CO 81501. No RSVP is needed.
URL:https://westerncoloradowriters.org/event/poetry-night-at-the-library-17/
LOCATION:Central Library\, 443 N 6th St\, Grand Junction\, CO\, 81501\, United States
CATEGORIES:Poetry Night
ATTACH;FMTTYPE=image/png:https://westerncoloradowriters.org/wp-content/uploads/2024/12/PoetryNightWebsite-1.png
END:VEVENT
BEGIN:VEVENT
DTSTART;TZID=America/Denver:20260211T180000
DTEND;TZID=America/Denver:20260211T194500
DTSTAMP:20260425T093422
CREATED:20260223T174638Z
LAST-MODIFIED:20260223T174638Z
UID:4768-1770832800-1770839100@westerncoloradowriters.org
SUMMARY:Poetry Night at the Library
DESCRIPTION:Poetry Night at the Library is a monthly program at the Mesa County Library. Each month poets are invited to read their work based on a previous month’s challenge\, or any other poem they’d like to read. Then\, a new topic is discussed and a new challenge is issued. Topics range from a particular poet\, to a school of poetry\, to a new tool for your poetry toolbox such as a form or poetic device. No poetry experience is required – all are welcome! \nPoetry Night occurs the second Wednesday of every month from 6-7:45 p.m. at the Central Library\, 443 N. 6th Street\, Grand Junction\, CO 81501. No RSVP is needed.
URL:https://westerncoloradowriters.org/event/poetry-night-at-the-library-19/
LOCATION:Central Library\, 443 N 6th St\, Grand Junction\, CO\, 81501\, United States
CATEGORIES:Poetry Night
ATTACH;FMTTYPE=image/png:https://westerncoloradowriters.org/wp-content/uploads/2024/12/PoetryNightWebsite-1.png
END:VEVENT
BEGIN:VEVENT
DTSTART;TZID=America/Denver:20260311T180000
DTEND;TZID=America/Denver:20260311T194500
DTSTAMP:20260425T093422
CREATED:20260223T174729Z
LAST-MODIFIED:20260223T174729Z
UID:4770-1773252000-1773258300@westerncoloradowriters.org
SUMMARY:Poetry Night at the Library
DESCRIPTION:Poetry Night at the Library is a monthly program at the Mesa County Library. Each month poets are invited to read their work based on a previous month’s challenge\, or any other poem they’d like to read. Then\, a new topic is discussed and a new challenge is issued. Topics range from a particular poet\, to a school of poetry\, to a new tool for your poetry toolbox such as a form or poetic device. No poetry experience is required – all are welcome! \nPoetry Night occurs the second Wednesday of every month from 6-7:45 p.m. at the Central Library\, 443 N. 6th Street\, Grand Junction\, CO 81501. No RSVP is needed.
URL:https://westerncoloradowriters.org/event/poetry-night-at-the-library-20/
LOCATION:Central Library\, 443 N 6th St\, Grand Junction\, CO\, 81501\, United States
CATEGORIES:Poetry Night
ATTACH;FMTTYPE=image/png:https://westerncoloradowriters.org/wp-content/uploads/2024/12/PoetryNightWebsite-1.png
END:VEVENT
BEGIN:VEVENT
DTSTART;TZID=America/Denver:20260408T180000
DTEND;TZID=America/Denver:20260408T194500
DTSTAMP:20260425T093422
CREATED:20260223T174813Z
LAST-MODIFIED:20260223T174813Z
UID:4772-1775671200-1775677500@westerncoloradowriters.org
SUMMARY:Poetry Night at the Library
DESCRIPTION:Poetry Night at the Library is a monthly program at the Mesa County Library. Each month poets are invited to read their work based on a previous month’s challenge\, or any other poem they’d like to read. Then\, a new topic is discussed and a new challenge is issued. Topics range from a particular poet\, to a school of poetry\, to a new tool for your poetry toolbox such as a form or poetic device. No poetry experience is required – all are welcome! \nPoetry Night occurs the second Wednesday of every month from 6-7:45 p.m. at the Central Library\, 443 N. 6th Street\, Grand Junction\, CO 81501. No RSVP is needed.
URL:https://westerncoloradowriters.org/event/poetry-night-at-the-library-21/
LOCATION:Central Library\, 443 N 6th St\, Grand Junction\, CO\, 81501\, United States
CATEGORIES:Poetry Night
ATTACH;FMTTYPE=image/png:https://westerncoloradowriters.org/wp-content/uploads/2024/12/PoetryNightWebsite-1.png
END:VEVENT
BEGIN:VEVENT
DTSTART;TZID=America/Denver:20260513T180000
DTEND;TZID=America/Denver:20260513T194500
DTSTAMP:20260425T093422
CREATED:20260223T174851Z
LAST-MODIFIED:20260223T174851Z
UID:4774-1778695200-1778701500@westerncoloradowriters.org
SUMMARY:Poetry Night at the Library
DESCRIPTION:Poetry Night at the Library is a monthly program at the Mesa County Library. Each month poets are invited to read their work based on a previous month’s challenge\, or any other poem they’d like to read. Then\, a new topic is discussed and a new challenge is issued. Topics range from a particular poet\, to a school of poetry\, to a new tool for your poetry toolbox such as a form or poetic device. No poetry experience is required – all are welcome! \nPoetry Night occurs the second Wednesday of every month from 6-7:45 p.m. at the Central Library\, 443 N. 6th Street\, Grand Junction\, CO 81501. No RSVP is needed.
URL:https://westerncoloradowriters.org/event/poetry-night-at-the-library-22/
LOCATION:Central Library\, 443 N 6th St\, Grand Junction\, CO\, 81501\, United States
CATEGORIES:Poetry Night
ATTACH;FMTTYPE=image/png:https://westerncoloradowriters.org/wp-content/uploads/2024/12/PoetryNightWebsite-1.png
END:VEVENT
BEGIN:VEVENT
DTSTART;TZID=America/Denver:20260610T180000
DTEND;TZID=America/Denver:20260610T194500
DTSTAMP:20260425T093422
CREATED:20260223T174940Z
LAST-MODIFIED:20260223T174940Z
UID:4776-1781114400-1781120700@westerncoloradowriters.org
SUMMARY:Poetry Night at the Library
DESCRIPTION:Poetry Night at the Library is a monthly program at the Mesa County Library. Each month poets are invited to read their work based on a previous month’s challenge\, or any other poem they’d like to read. Then\, a new topic is discussed and a new challenge is issued. Topics range from a particular poet\, to a school of poetry\, to a new tool for your poetry toolbox such as a form or poetic device. No poetry experience is required – all are welcome! \nPoetry Night occurs the second Wednesday of every month from 6-7:45 p.m. at the Central Library\, 443 N. 6th Street\, Grand Junction\, CO 81501. No RSVP is needed.
URL:https://westerncoloradowriters.org/event/poetry-night-at-the-library-23/
LOCATION:Central Library\, 443 N 6th St\, Grand Junction\, CO\, 81501\, United States
CATEGORIES:Poetry Night
ATTACH;FMTTYPE=image/png:https://westerncoloradowriters.org/wp-content/uploads/2024/12/PoetryNightWebsite-1.png
END:VEVENT
BEGIN:VEVENT
DTSTART;TZID=America/Denver:20260708T180000
DTEND;TZID=America/Denver:20260708T194500
DTSTAMP:20260425T093422
CREATED:20260223T175026Z
LAST-MODIFIED:20260223T175026Z
UID:4778-1783533600-1783539900@westerncoloradowriters.org
SUMMARY:Poetry Night at the Library
DESCRIPTION:Poetry Night at the Library is a monthly program at the Mesa County Library. Each month poets are invited to read their work based on a previous month’s challenge\, or any other poem they’d like to read. Then\, a new topic is discussed and a new challenge is issued. Topics range from a particular poet\, to a school of poetry\, to a new tool for your poetry toolbox such as a form or poetic device. No poetry experience is required – all are welcome! \nPoetry Night occurs the second Wednesday of every month from 6-7:45 p.m. at the Central Library\, 443 N. 6th Street\, Grand Junction\, CO 81501. No RSVP is needed.
URL:https://westerncoloradowriters.org/event/poetry-night-at-the-library-24/
LOCATION:Central Library\, 443 N 6th St\, Grand Junction\, CO\, 81501\, United States
CATEGORIES:Poetry Night
ATTACH;FMTTYPE=image/png:https://westerncoloradowriters.org/wp-content/uploads/2024/12/PoetryNightWebsite-1.png
END:VEVENT
BEGIN:VEVENT
DTSTART;TZID=America/Denver:20260812T180000
DTEND;TZID=America/Denver:20260812T194500
DTSTAMP:20260425T093422
CREATED:20260223T180951Z
LAST-MODIFIED:20260223T180951Z
UID:4789-1786557600-1786563900@westerncoloradowriters.org
SUMMARY:Poetry Night at the Library
DESCRIPTION:Poetry Night at the Library is a monthly program at the Mesa County Library. Each month poets are invited to read their work based on a previous month’s challenge\, or any other poem they’d like to read. Then\, a new topic is discussed and a new challenge is issued. Topics range from a particular poet\, to a school of poetry\, to a new tool for your poetry toolbox such as a form or poetic device. No poetry experience is required – all are welcome! \nPoetry Night occurs the second Wednesday of every month from 6-7:45 p.m. at the Central Library\, 443 N. 6th Street\, Grand Junction\, CO 81501. No RSVP is needed.
URL:https://westerncoloradowriters.org/event/poetry-night-at-the-library-25/
LOCATION:Central Library\, 443 N 6th St\, Grand Junction\, CO\, 81501\, United States
CATEGORIES:Poetry Night
ATTACH;FMTTYPE=image/png:https://westerncoloradowriters.org/wp-content/uploads/2024/12/PoetryNightWebsite-1.png
END:VEVENT
END:VCALENDAR